Workbook
Name _msoanchor_1: '2009'!$B$3
Name _msoanchor_1: '2010'!$B$3
Name _msoanchor_1: '2011'!$B$3
Name _msoanchor_1: '2012'!$B$3
Name _msoanchor_1: '2013'!$B$3
Name _msoanchor_1: '2014'!$B$3
Name _msoanchor_1: '2015'!$B$3
Name _msoanchor_1: '2016'!$B$3
Name _msoanchor_1: '2017'!$B$3
Name _msoanchor_10: '2009'!$B$11
Name _msoanchor_10: '2010'!$B$11
Name _msoanchor_10: '2011'!$B$11
Name _msoanchor_10: '2012'!$B$11
Name _msoanchor_10: '2013'!$B$11
Name _msoanchor_10: '2014'!$B$11
Name _msoanchor_10: '2015'!$B$11
Name _msoanchor_10: '2016'!$B$11
Name _msoanchor_10: '2017'!$B$11
Name _msoanchor_11: '2009'!$E$11
Name _msoanchor_11: '2010'!$E$11
Name _msoanchor_11: '2011'!$E$11
Name _msoanchor_11: '2012'!$E$11
Name _msoanchor_11: '2013'!$E$11
Name _msoanchor_11: '2014'!$E$11
Name _msoanchor_11: '2015'!$E$11
Name _msoanchor_11: '2016'!$E$11
Name _msoanchor_11: '2017'!$E$11
Name _msoanchor_12: '2009'!$H$17
Name _msoanchor_12: '2010'!$H$17
Name _msoanchor_12: '2011'!$H$17
Name _msoanchor_12: '2012'!$H$17
Name _msoanchor_12: '2013'!$H$17
Name _msoanchor_12: '2014'!$H$17
Name _msoanchor_12: '2015'!$H$17
Name _msoanchor_12: '2016'!$H$17
Name _msoanchor_12: '2017'!$H$17
Name _msoanchor_13: '2009'!$B$18
Name _msoanchor_13: '2010'!$B$18
Name _msoanchor_13: '2011'!$B$18
Name _msoanchor_13: '2012'!$B$18
Name _msoanchor_13: '2013'!$B$18
Name _msoanchor_13: '2014'!$B$18
Name _msoanchor_13: '2015'!$B$18
Name _msoanchor_13: '2016'!$B$18
Name _msoanchor_13: '2017'!$B$18
Name _msoanchor_14: '2009'!$E$18
Name _msoanchor_14: '2010'!$E$18
Name _msoanchor_14: '2011'!$E$18
Name _msoanchor_14: '2012'!$E$18
Name _msoanchor_14: '2013'!$E$18
Name _msoanchor_14: '2014'!$E$18
Name _msoanchor_14: '2015'!$E$18
Name _msoanchor_14: '2016'!$E$18
Name _msoanchor_14: '2017'!$E$18
Name _msoanchor_15: '2009'!$H$18
Name _msoanchor_15: '2010'!$H$18
Name _msoanchor_15: '2011'!$H$18
Name _msoanchor_15: '2012'!$H$18
Name _msoanchor_15: '2013'!$H$18
Name _msoanchor_15: '2014'!$H$18

Sheet WEBSITE
A1: CBML DRAFT | D1: CBML DRAFT | G1: CBML DRAFT | J1: CBML DRAFT | M1: CBML DRAFT
A2: 1988 | B2: Wadsworth, OH | D2: 1989 | E2: Allentown, PA | G2: 1990 | H2: Hackettstown, NJ | J2: 1991 | K2: Hackettstown, NJ | M2: 1992 | N2: Kent, Ohio
A4: ROUND 1 | D4: ROUND 1 | G4: ROUND 1 | J4: ROUND 1 | M4: ROUND 1
A5: 1 | B5: Indians | C5: Roger Clemens | D5: 1 | E5: Reds | F5: Roberto Alomar | G5: 1 | H5: Phillies | I5: Ken Griffey Jr. | J5: 1 | K5: Orioles | L5: Frank Thomas | M5: 1 | N5: Phillies | O5: Chuck Knoblauch
A6: 2 | B6: Padres | C6: Dave Stewart | D6: 2 | E6: Yankees | F6: Chris Sabo | G6: 2 | H6: Giants | I6: Jerome Walton | J6: 2 | K6: Pirates | L6: Cecil Fielder | M6: 2 | N6: Tigers | O6: Jeff Bagwell
A7: 3 | B7: Orioles | C7: Wade Boggs | D7: 3 | E7: Padres | F7: Gary Sheffield | G7: 3 | H7: Phillies | I7: Pat Coombs | J7: 3 | K7: Orioles | L7: Travis Fryman | M7: 3 | N7: Orioles | O7: Mike Mussina
A8: 4 | B8: Astros | C8: Ted Higuera | D8: 4 | E8: Mets | F8: Mark Grace | G8: 4 | H8: Mets | I8: Todd Zeille | J8: 4 | K8: Astros | L8: Delino DeShields | M8: 4 | N8: Indians | O8: Juan Guzman
A9: 5 | B9: Phillies | C9: Mark McGuire | D9: 5 | E9: Twins | F9: Rick Jordan | G9: 5 | H9: Astros | I9: Andy Benes | J9: 5 | K9: Tigers | L9: Jose Offerman | M9: 5 | N9: Padres | O9: Mark Lewis
A10: 6 | B10: Pirates | C10: Mark Langston | D10: 6 | E10: Phillies | F10: John Dopson | G10: 6 | H10: Padres | I10: Jim Abbott | J10: 6 | K10: Padres | L10: Jack McDowell | M10: 6 | N10: Mets | O10: Ivan Rodriguez
A11: 7 | B11: Royals | C11: Dale Murphy | D11: 7 | E11: Cardinals | F11: Dave Gallagher | G11: 7 | H11: Cardinals | I11: Robin Ventura | J11: 7 | K11: Yankees | L11: Alex Fernandez | M11: 7 | N11: Cardinals | O11: Bill Wegman
A12: 8 | B12: Reds | C12: Wally Joyner | D12: 8 | E12: Padres | F12: Sandy Alomar Jr | G12: 8 | H12: Twins | I12: Ben McDonald | J12: 8 | K12: Phillies | L12: Mickey Morandini | M12: 8 | N12: Tigers | O12: Jim Thome
A13: 9 | B13: Twins | C13: Fernando Valenzuela | D13: 9 | E13: Expos | F13: Don August | G13: 9 | H13: Expos | I13: Dwight Smith | J13: 9 | K13: Reds | L13: Tino Martinez | M13: 9 | N13: Giants | O13: Todd Van Poppell
A14: 10 | B14: Yankees | C14: Andre Dawson | D14: 10 | E14: Indians | F14: Paul Gibson | G14: 10 | H14: Blue Jays | I14: John Wetteland | J14: 10 | K14: Twins | L14: Ray Lankford | M14: 10 | N14: Reds | O14: Mo Vaughn
A15: 11 | B15: Blue Jays | C15: B.J. Surhoff | D15: 11 | E15: Pirates | F15: Cecil Espy | G15: 11 | H15: Yankees | I15: Junior Felix | J15: 11 | K15: Indians | L15: Kevin Maas | M15: 11 | N15: Yankees | O15: Darryl Kile
A16: 12 | B16: Giants | C16: Ruben Sierra | D16: 12 | E16: Tigers | F16: John Moses | G16: 12 | H16: Indians | I16: Ken Howell | J16: 12 | K16: Expos | L16: Mark Whiten | M16: 12 | N16: Pirates | O16: Dean Palmer
... A20: 16 | B20: Tigers | C20: Charlie Hough | D20: 16 | E20: Blue Jays | F20: Ramon Martinez | G20: 16 | H20: Pirates | I20: Bill Landrum | J20: 16 | K20: Blue Jays | L20: Steve Avery | M20: 16 | N20: Blue Jays | O20: Royce Clayton
A22: ROUND 2 | D22: ROUND 2 | G22: ROUND 2 | J22: ROUND 2 | M22: ROUND 2
A23: 17 | B23: Indians | C23: Jack McDowell | D23: 17 | E23: Reds | F23: Norm Charlton | G23: 17 | H23: Phillies | I23: Ken Hill | J23: 17 | K23: Orioles | L23: Brian McRae | M23: 17 | N23: Yankees | O23: Arthur Rhodes
A24: 18 | B24: Padres | C24: Orel Hershiser | D24: 18 | E24: Yankees | F24: Mike Harkey | G24: 18 | H24: Reds | I24: Jamie Navarro | J24: 18 | K24: Indians | L24: Mike McFarlane | M24: 18 | N24: Phillies | O24: Keith Mitchell
A25: 19 | B25: Orioles | C25: Mike Greenwell | D25: 19 | E25: Orioles | F25: Erik Hansen | G25: 19 | H25: Royals | I25: Eric Anthony | J25: 19 | K25: Pirates | L25: Steve Decker | M25: 19 | N25: Giants | O25: Reggie Sanders
A26: 20 | B26: Astros | C26: Dan Plesac | D26: 20 | E26: Mets | F26: Dave West | G26: 20 | H26: Orioles | I26: Rob Ritchie | J26: 20 | K26: Astros | L26: Phil Plantier | M26: 20 | N26: Indians | O26: Reggie Jefferson
A27: 21 | B27: Phillies | C27: Harold Reynolds | D27: 21 | E27: Twins | F27: Joe Orsulak | G27: 21 | H27: Astros | I27: Lonnie Smith | J27: 21 | K27: Tigers | L27: Carlos Baerga | M27: 21 | N27: Orioles | O27: Chuck McElroy
A28: 22 | B28: Pirates | C28: Devon White | D28: 22 | E28: Phillies | F28: Andres Thomas | G28: 22 | H28: Pirates | I28: Mike Stanton | J28: 22 | K28: Twins | L28: Bernard Gilkey | M28: 22 | N28: Mets | O28: Jose Hernandez
A29: 23 | B29: Royals | C29: Dale Sveum | D29: 23 | E29: Cardinals | F29: Tim Crews | G29: 23 | H29: Cardinals | I29: Greg Vaughn | J29: 23 | K29: Yankees | L29: Terry Shumpert | M29: 23 | N29: Cardinals | O29: Doug Henry
A30: 24 | B30: Reds | C30: Mike Witt | D30: 24 | E30: Yankees | F30: Ron Jones | G30: 24 | H30: Twins | I30: Chuck Cary | J30: 24 | K30: Mets | L30: Shawn Boskie | M30: 24 | N30: Tigers | O30: Kyle Abbott
A31: 25 | B31: Twins | C31: Rick Sutcliffe | D31: 25 | E31: Expos | F31: Randy Johnson | G31: 25 | H31: Expos | I31: Larry Walker | J31: 25 | K31: Reds | L31: Chris Hammond | M31: 25 | N31: Twins | O31: Kenny Lofton
A32: 26 | B32: Yankees | C32: Floyd Bannister | D32: 26 | E32: Indians | F32: Todd Burns | G32: 26 | H32: Blue Jays | I32: John Olerud | J32: 26 | K32: Twins | L32: Randy Tomlin | M32: 26 | N32: Reds | O32: Ray Sanchez
A33: 27 | B33: Expos | C33: Ellid Burks | D33: 27 | E33: Pirates | F33: Brian Holman | G33: 27 | H33: Yankees | I33: Scott Scudder | J33: 27 | K33: Pirates | L33: Shane Mack | M33: 27 | N33: Yankees | O33: Pat Kelly
A34: 28 | B34: Expos | C34: Dick Schofield | D34: 28 | E34: Tigers | F34: Jerry Reuss | G34: 28 | H34: Indians | I34: Kent Mercker | J34: 28 | K34: Expos | L34: Lee Stevens | M34: 28 | N34: Royals | O34: Luis Mercedes
... A38: 32 | B38: Tigers | C38: Dwight Evans | D38: 32 | E38: Blue Jays | F38: Cris Carpenter | G38: 32 | H38: Pirates | I38: Greg Hibbard | J38: 32 | K38: Blue Jays | L38: Brian Barnes | M38: 32 | N38: Blue Jays | O38: Bernie Williams
A40: ROUND 3 | D40: ROUND 3 | G40: ROUND 3 | J40: ROUND 3 | M40: ROUND 3
A41: 33 | B41: Indians | C41: Mitch Williams | D41: 33 | E41: Reds | F41: Jack Armstrong | G41: 33 | H41: Phillies | I41: Junior Noboa | J41: 33 | K41: Orioles | L41: Sal Chiamparino | M41: 33 | N41: Phillies | O41: Scott Lesius
A42: 34 | B42: Padres | C42: Bruce Hurst | D42: 34 | E42: Yankees | F42: Mike Campbell | G42: 34 | H42: Reds | I42: Omar Visquel | J42: 34 | K42: Cardinals | L42: Bob Tewksberry | M42: 34 | N42: Giants | O42: Rheal Cormier
A43: 35 | B43: Orioles | C43: Ivan Calderon | D43: 35 | E43: Orioles | F43: John Costello | G43: 35 | H43: Royals | I43: Joe Oliver | J43: 35 | K43: Cardinals | L43: Milt Cuyler | M43: 35 | N43: Padres | O43: Eddie Zosky
A44: 36 | B44: Astros | C44: Alfredo Griffin | D44: 36 | E44: Mets | F44: Chad Krueter | G44: 36 | H44: Orioles | I44: Francisco Cabrerra | J44: 36 | K44: Astros | L44: Derrick May | M44: 36 | N44: Indians | O44: Brian Hunter
A45: 37 | B45: Phillies | C45: Terry Steinbach | D45: 37 | E45: Twins | F45: Paul Mirabella | G45: 37 | H45: Astros | I45: John Orton | J45: 37 | K45: Tigers | L45: Luis Gonzalez | M45: 37 | N45: Yankees | O45: Jeff Juden
A46: 38 | B46: Pirates | C46: Carney Lansford | D46: 38 | E46: Phillies | F46: Mark Grant | G46: 38 | H46: Padres | I46: Gary Eave | J46: 38 | K46: Padres | L46: Leo Gomez | M46: 38 | N46: Mets | O46: Hector Fajardo
A47: 39 | B47: Royals | C47: Dale Mohorcic | D47: 39 | E47: Cardinals | F47: Mickey Hatcher | G47: 39 | H47: Padres | I47: Joey Bell | J47: 39 | K47: Yankees | L47: Wes Chamberlain | M47: 39 | N47: Cardinals | O47: Joel Johnston
A48: 40 | B48: Reds | C48: Shawn Hillegas | D48: 40 | E48: Padres | F48: Rick Mahler | G48: 40 | H48: Twins | I48: Mark Gardner | J48: 40 | K48: Philles | L48: Jim Neidlinger | M48: 40 | N48: Tigers | O48: Cal Eldred
A49: 41 | B49: Twins | C49: Lee Smith | D49: 41 | E49: Expos | F49: Pat Borders | G49: 41 | H49: Expos | I49: Tommy Greene | J49: 41 | K49: Reds | L49: Lance Dickson | M49: 41 | N49: Twins | O49: Frank Castillo
...

Sheet Sheet1

Sheet 1988
A1: ROUND 1 | D1: ROUND 2 | G1: ROUND 3 | K1: ROUND 1
A2: 1 | B2: Indians | C2: Roger Clemens | D2: 17 | E2: Indians | F2: Jack McDowell | G2: 33 | H2: Indians | I2: Mitch Williams | K2: 1 | L2: Indians | M2: Roger Clemens
A3: 2 | B3: Padres | C3: Dave Stewart | D3: 18 | E3: Padres | F3: Orel Hershiser | G3: 34 | H3: Padres | I3: Bruce Hurst | K3: 2 | L3: Padres | M3: Dave Stewart
A4: 3 | B4: Orioles | C4: Wade Boggs | D4: 19 | E4: Orioles | F4: Mike Greenwell | G4: 35 | H4: Orioles | I4: Ivan Calderon | K4: 3 | L4: Orioles | M4: Wade Boggs
A5: 4 | B5: Astros | C5: Ted Higuera | D5: 20 | E5: Astros | F5: Dan Plesac | G5: 36 | H5: Astros | I5: Alfredo Griffin | K5: 4 | L5: Astros | M5: Ted Higuera
A6: 5 | B6: Phillies | C6: Mark McGuire | D6: 21 | E6: Phillies | F6: Harold Reynolds | G6: 37 | H6: Phillies | I6: Terry Steinbach | K6: 5 | L6: Phillies | M6: Mark McGuire
A7: 6 | B7: Pirates | C7: Mark Langston | D7: 22 | E7: Pirates | F7: Devon White | G7: 38 | H7: Pirates | I7: Carney Lansford | K7: 6 | L7: Pirates | M7: Mark Langston
A8: 7 | B8: Royals | C8: Dale Murphy | D8: 23 | E8: Royals | F8: Dale Sveum | G8: 39 | H8: Royals | I8: Dale Mohorcic | K8: 7 | L8: Royals | M8: Dale Murphy
A9: 8 | B9: Reds | C9: Wally Joyner | D9: 24 | E9: Reds | F9: Mike Witt | G9: 40 | H9: Reds | I9: Shawn Hillegas | K9: 8 | L9: Reds | M9: Wally Joyner
A10: 9 | B10: Twins | C10: Fernando Valenzuela | D10: 25 | E10: Twins | F10: Rick Sutcliffe | G10: 41 | H10: Twins | I10: Lee Smith | K10: 9 | L10: Twins | M10: Fernando Valenzuela
A11: 10 | B11: Yankees | C11: Andre Dawson | D11: 26 | E11: Yankees | F11: Floyd Bannister | G11: 42 | H11: Yankees | I11: Ozzie Virgil | K11: 10 | L11: Yankees | M11: Andre Dawson
A12: 11 | B12: Blue Jays | C12: B.J. Surhoff | D12: 27 | E12: Expos | F12: Ellid Burks | G12: 43 | H12: Expos | I12: Bobby Witt | K12: 11 | L12: Blue Jays | M12: B.J. Surhoff
A13: 12 | B13: Giants | C13: Ruben Sierra | D13: 28 | E13: Expos | F13: Dick Schofield | G13: 44 | H13: Expos | I13: Dave Valle | K13: 12 | L13: Giants | M13: Ruben Sierra
... A17: 16 | B17: Tigers | C17: Charlie Hough | D17: 32 | E17: Tigers | F17: Dwight Evans | G17: 48 | H17: Tigers | I17: Jim Presley | K17: 16 | L17: Tigers | M17: Charlie Hough
A19: ROUND 4 | D19: ROUND 5 | G19: ROUND 6 | K19: ROUND 2
A20: 49 | B20: Indians | C20: Bobby Thigpen | D20: 65 | E20: Indians | F20: Ken Phelps | G20: 81 | H20: Indians | I20: Dave Stapleton | K20: 17 | L20: Indians | M20: Jack McDowell
A21: 50 | B21: Padres | C21: Pete Incaviglia | D21: 66 | E21: Padres | F21: Harold Baines | G21: 82 | H21: Padres | I21: Bob Dernier | K21: 18 | L21: Padres | M21: Orel Hershiser
A22: 51 | B22: Orioles | C22: Curt Young | D22: 67 | E22: Orioles | F22: Jose Guzman | G22: 83 | H22: Orioles | I22: John Marzano | K22: 19 | L22: Orioles | M22: Mike Greenwell
A23: 52 | B23: Astros | C23: Pete O'Brien | D23: 68 | E23: Astros | F23: Luis Polonia | G23: 84 | H23: Astros | I23: Carlton Fisk | K23: 20 | L23: Astros | M23: Dan Plesac
A24: 53 | B24: Phillies | C24: Phil Bradley | D24: 69 | E24: Phillies | F24: Rey Quinones | G24: 85 | H24: Phillies | I24: Bill Wegman | K24: 21 | L24: Phillies | M24: Harold Reynolds
A25: 54 | B25: Pirates | C25: Ozzie Guillen | D25: 70 | E25: Pirates | F25: Willie Fraser | G25: 86 | H25: Pirates | I25: Leon Durham | K25: 22 | L25: Pirates | M25: Devon White
A26: 55 | B26: Royals | C26: Mike Scioscia | D26: 71 | E26: Royals | F26: Dewayne Buice | G26: 87 | H26: Royals | I26: Rich Dotson | K26: 23 | L26: Royals | M26: Dale Sveum
A27: 56 | B27: Reds | C27: Mickey Brantley | D27: 72 | E27: Reds | F27: Shawn Dunston | G27: 88 | H27: Reds | I27: Mark Clear | K27: 24 | L27: Reds | M27: Mike Witt
A28: 57 | B28: Twins | C28: Marty Barrett | D28: 73 | E28: Twins | F28: Geno Petralli | G28: 89 | H28: Twins | I28: Sam Horn | K28: 25 | L28: Twins | M28: Rick Sutcliffe
A29: 58 | B29: Yankees | C29: Jay Howell | D29: 74 | E29: Yankees | F29: Dennis Eckersley | G29: 90 | H29: Yankees | I29: Calvin Schiraldi | K29: 26 | L29: Yankees | M29: Floyd Bannister
A30: 59 | B30: Giants | C30: Edwin Correa | D30: 75 | E30: Giants | F30: Tom Glavine | G30: 91 | H30: Giants | I30: Mike Loynd | K30: 27 | L30: Expos | M30: Ellid Burks
A31: 60 | B31: Expos | C31: Rafael Palmeiro | D31: 76 | E31: Expos | F31: Walt Weiss | G31: 92 | H31: Expos | I31: Bill Wilkinson | K31: 28 | L31: Expos | M31: Dick Schofield
... A35: 64 | B35: Tigers | C35: Dave Martinez | D35: 80 | E35: Tigers | F35: Frank Dipino | G35: 96 | H35: Tigers | I35: Alvin Davis | K35: 32 | L35: Tigers | M35: Dwight Evans
A37: ROUND 7 | D37: ROUND 8 | G37: ROUND 9 | K37: ROUND 3
A38: 97 | B38: Indians | C38: Scott Fletcher | D38: 113 | E38: Indians | F38: Steve Ontiveros | G38: 129 | H38: Indians | I38: Scott Bradley | K38: 33 | L38: Indians | M38: Mitch Williams
A39: 98 | B39: Padres | C39: Manny Trillo | D39: 114 | E39: Padres | F39: Greg Brock | G39: 130 | H39: Padres | I39: Steve Buchelle | K39: 34 | L39: Padres | M39: Bruce Hurst
A40: 99 | B40: Orioles | C40: Jim Gantner | D40: 115 | E40: Orioles | F40: Kirk McKaskill | G40: 131 | H40: Orioles | I40: Edwin Nunez | K40: 35 | L40: Orioles | M40: Ivan Calderon
A41: 100 | B41: Astros | C41: Gary Lucas | D41: 116 | E41: Astros | F41: Dave Lapoint | G41: 132 | H41: Astros | I41: Rob Mallicoat | K41: 36 | L41: Astros | M41: Alfredo Griffin
A42: 101 | B42: Phillies | C42: Steve Lyons | D42: 117 | E42: Phillies | F42: Greg Walker | G42: 133 | H42: Phillies | I42: Brian Dayett | K42: 37 | L42: Phillies | M42: Terry Steinbach
A43: 102 | B43: Pirates | C43: Dave Leiper | D43: 118 | E43: Pirates | F43: Glenn Hubbard | G43: 134 | H43: Pirates | I43: Dave Otto | K43: 38 | L43: Pirates | M43: Carney Lansford
A44: 103 | B44: Royals | C44: John Shelby | D44: 119 | E44: Royals | F44: Mike Felder | G44: 135 | H44: Royals | I44: Jim Rice | K44: 39 | L44: Royals | M44: Dale Mohorcic
A45: 104 | B45: Reds | C45: Jody Davis | D45: 120 | E45: Reds | F45: Bob Brower | G45: 136 | H45: Reds | I45: Ken Oberkfell | K45: 40 | L45: Reds | M45: Shawn Hillegas
A46: 105 | B46: Twins | C46: Mike Marshall | D46: 121 | E46: Twins | F46: Mark McLemore | G46: 137 | H46: Twins | I46: Bob Knepper | K46: 41 | L46: Twins | M46: Lee Smith
A47: 106 | B47: Yankees | C47: Mike Davis | D47: 122 | E47: Yankees | F47: Keith Moreland | G47: 138 | H47: Yankees | I47: Gary Redus | K47: 42 | L47: Yankees | M47: Ozzie Virgil
A48: 107 | B48: Expos | C48: Rich Gedman | D48: 123 | E48: Giants | F48: Chuck Crim | G48: 139 | H48: Giants | I48: Ron Karkovice | K48: 43 | L48: Expos | M48: Bobby Witt
...

Sheet 1989
A1: ROUND 1 | D1: ROUND 2 | G1: ROUND 3 | K1: 1989 | L1: Round 1 | M1: ROUND 1
A2: 1 | B2: Reds | C2: Roberto Alomar | D2: 17 | E2: Reds | F2: Norm Charlton | G2: 33 | H2: Reds | I2: Jack Armstrong | K2: 1989 | L2: Round 1 | M2: 1 | N2: Reds | O2: Roberto Alomar
A3: 2 | B3: Yankees | C3: Chris Sabo | D3: 18 | E3: Yankees | F3: Mike Harkey | G3: 34 | H3: Yankees | I3: Mike Campbell | K3: 1989 | L3: Round 1 | M3: 2 | N3: Yankees | O3: Chris Sabo
A4: 3 | B4: Padres | C4: Gary Sheffield | D4: 19 | E4: Orioles | F4: Erik Hansen | G4: 35 | H4: Orioles | I4: John Costello | K4: 1989 | L4: Round 1 | M4: 3 | N4: Padres | O4: Gary Sheffield
A5: 4 | B5: Mets | C5: Mark Grace | D5: 20 | E5: Mets | F5: Dave West | G5: 36 | H5: Mets | I5: Chad Krueter | K5: 1989 | L5: Round 1 | M5: 4 | N5: Mets | O5: Mark Grace
A6: 5 | B6: Twins | C6: Rick Jordan | D6: 21 | E6: Twins | F6: Joe Orsulak | G6: 37 | H6: Twins | I6: Paul Mirabella | K6: 1989 | L6: Round 1 | M6: 5 | N6: Twins | O6: Rick Jordan
A7: 6 | B7: Phillies | C7: John Dopson | D7: 22 | E7: Phillies | F7: Andres Thomas | G7: 38 | H7: Phillies | I7: Mark Grant | K7: 1989 | L7: Round 1 | M7: 6 | N7: Phillies | O7: John Dopson
A8: 7 | B8: Cardinals | C8: Dave Gallagher | D8: 23 | E8: Cardinals | F8: Tim Crews | G8: 39 | H8: Cardinals | I8: Mickey Hatcher | K8: 1989 | L8: Round 1 | M8: 7 | N8: Cardinals | O8: Dave Gallagher
A9: 8 | B9: Padres | C9: Sandy Alomar Jr | D9: 24 | E9: Yankees | F9: Ron Jones | G9: 40 | H9: Padres | I9: Rick Mahler | K9: 1989 | L9: Round 1 | M9: 8 | N9: Padres | O9: Sandy Alomar Jr
A10: 9 | B10: Expos | C10: Don August | D10: 25 | E10: Expos | F10: Randy Johnson | G10: 41 | H10: Expos | I10: Pat Borders | K10: 1989 | L10: Round 1 | M10: 9 | N10: Expos | O10: Don August
A11: 10 | B11: Indians | C11: Paul Gibson | D11: 26 | E11: Indians | F11: Todd Burns | G11: 42 | H11: Indians | I11: Joey Meyer | K11: 1989 | L11: Round 1 | M11: 10 | N11: Indians | O11: Paul Gibson
A12: 11 | B12: Pirates | C12: Cecil Espy | D12: 27 | E12: Pirates | F12: Brian Holman | G12: 43 | H12: Pirates | I12: Brian Harper | K12: 1989 | L12: Round 1 | M12: 11 | N12: Pirates | O12: Cecil Espy
A13: 12 | B13: Tigers | C13: John Moses | D13: 28 | E13: Tigers | F13: Jerry Reuss | G13: 44 | H13: Tigers | I13: Rex Hudler | K13: 1989 | L13: Round 1 | M13: 12 | N13: Tigers | O13: John Moses
... A17: 16 | B17: Blue Jays | C17: Ramon Martinez | D17: 32 | E17: Blue Jays | F17: Cris Carpenter | G17: 48 | H17: Blue Jays | I17: Pete Harnisch | K17: 1989 | L17: Round 1 | M17: 16 | N17: Blue Jays | O17: Ramon Martinez
K18: 1989
A19: ROUND 4 | D19: ROUND 5 | G19: ROUND 6 | K19: 1989 | L19: Round 2 | M19: ROUND 2
A20: 49 | B20: Reds | C20: Keith Brown | D20: 65 | E20: Reds | F20: Van Snider | G20: 81 | H20: Reds | I20: Jeff Reed | K20: 1989 | L20: Round 2 | M20: 17 | N20: Reds | O20: Norm Charlton
A21: 50 | B21: Yankees | C21: Kirk Manwaring | D21: 66 | E21: Yankees | F21: Doug Dacenzo | G21: 82 | H21: Yankees | I21: Lance Blankenship | K21: 1989 | L21: Round 2 | M21: 18 | N21: Yankees | O21: Mike Harkey
A22: 51 | B22: Orioles | C22: Dennis Cook | D22: 67 | E22: Orioles | F22: Todd Stottlemyre | G22: 83 | H22: Orioles | I22: Ravelo Manzanillo | K22: 1989 | L22: Round 2 | M22: 19 | N22: Orioles | O22: Erik Hansen
A23: 52 | B23: Mets | C23: Bob Milacki | D23: 68 | E23: Pirates | F23: Terry Mullholland | G23: 84 | H23: Mets | I23: Scott Service | K23: 1989 | L23: Round 2 | M23: 20 | N23: Mets | O23: Dave West
A24: 53 | B24: Twins | C24: Cameron Drew | D24: 69 | E24: Twins | F24: Rafael Ramirez | G24: 85 | H24: Twins | I24: Carlos Quintanna | K24: 1989 | L24: Round 2 | M24: 21 | N24: Twins | O24: Joe Orsulak
A25: 54 | B25: Phillies | C25: Mike Fitzgerald | D25: 70 | E25: Phillies | F25: Darrin Jackson | G25: 86 | H25: Phillies | I25: Ron Hassey | K25: 1989 | L25: Round 2 | M25: 22 | N25: Phillies | O25: Andres Thomas
A26: 55 | B26: Cardinals | C26: Jim Eppard | D26: 71 | E26: Cardinals | F26: Brad Havens | G26: 87 | H26: Cardinals | I26: Shawn Abner | K26: 1989 | L26: Round 2 | M26: 23 | N26: Cardinals | O26: Tim Crews
A27: 56 | B27: Orioles | C27: Jose Bautista | D27: 72 | E27: Padres | F27: Jeff Pico | G27: 88 | H27: Padres | I27: Randy Velarde | K27: 1989 | L27: Round 2 | M27: 24 | N27: Yankees | O27: Ron Jones
A28: 57 | B28: Padres | C28: Keith Miller | D28: 73 | E28: Expos | F28: Mark Lemke | G28: 89 | H28: Expos | I28: Lenny Harris | K28: 1989 | L28: Round 2 | M28: 25 | N28: Expos | O28: Randy Johnson
A29: 58 | B29: Indians | C29: Steve Searcy | D29: 74 | E29: Indians | F29: Mike Devereaux | G29: 90 | H29: Indians | I29: Tony Castillo | K29: 1989 | L29: Round 2 | M29: 26 | N29: Indians | O29: Todd Burns
A30: 59 | B30: Pirates | C30: Tony Armas | D30: 75 | E30: Pirates | F30: Jerry Browne | G30: 91 | H30: Pirates | I30: Dickie Thon | K30: 1989 | L30: Round 2 | M30: 27 | N30: Pirates | O30: Brian Holman
A31: 60 | B31: Tigers | C31: Larry McWilliams | D31: 76 | E31: Tigers | F31: Al Nipper | G31: 92 | H31: Tigers | I31: Dwayne Murphy | K31: 1989 | L31: Round 2 | M31: 28 | N31: Tigers | O31: Jerry Reuss
... A35: 64 | B35: Blue Jays | C35: Jose Alvarez | D35: 80 | E35: Blue Jays | F35: Nelson Santovenia | G35: 96 | H35: Blue Jays | I35: Bob Stanley | K35: 1989 | L35: Round 2 | M35: 32 | N35: Blue Jays | O35: Cris Carpenter
K36: 1989
A37: ROUND 7 | D37: ROUND 8 | G37: ROUND 9 | K37: 1989 | L37: Round 3 | M37: ROUND 3
A38: 97 | B38: Reds | C38: Tim Birstas | D38: 113 | E38: Reds | F38: Ron Oester | G38: 129 | H38: Reds | I38: Herm Winnington | K38: 1989 | L38: Round 3 | M38: 33 | N38: Reds | O38: Jack Armstrong
A39: 98 | B39: Yankees | C39: Zane Smith | D39: 114 | E39: Yankees | F39: John Mitchell | G39: 130 | H39: Yankees | I39: Hipilito Pena | K39: 1989 | L39: Round 3 | M39: 34 | N39: Yankees | O39: Mike Campbell
A40: 99 | B40: Orioles | C40: Steve Rosenberg | D40: 115 | E40: Orioles | F40: Kevin Blankenship | G40: 131 | H40: Orioles | I40: Shane Mack | K40: 1989 | L40: Round 3 | M40: 35 | N40: Orioles | O40: John Costello
A41: 100 | B41: Mets | C41: Rick Reed | D41: 116 | E41: Mets | F41: Miguel Garcia | G41: 132 | H41: Mets | I41: Luis Aquino | K41: 1989 | L41: Round 3 | M41: 36 | N41: Mets | O41: Chad Krueter
A42: 101 | B42: Twins | C42: William Brennan | D42: 117 | E42: Twins | F42: Steve Curry | G42: 133 | H42: Twins | I42: Torre Luvello | K42: 1989 | L42: Round 3 | M42: 37 | N42: Twins | O42: Paul Mirabella
A43: 102 | B43: Phillies | C43: Marvin Freeman | D43: 118 | E43: Phillies | F43: Les Straker | G43: 134 | H43: Phillies | I43: Rod Nichols | K43: 1989 | L43: Round 3 | M43: 38 | N43: Phillies | O43: Mark Grant
A44: 103 | B44: Cardinals | C44: Tim Jones | D44: 119 | E44: Cardinals | F44: Jim Adducci | G44: 135 | H44: Cardinals | I44: Mike Walker | K44: 1989 | L44: Round 3 | M44: 39 | N44: Cardinals | O44: Mickey Hatcher
A45: 104 | B45: Padres | C45: Joel Skinner | D45: 120 | E45: Padres | F45: Neil Allen | G45: 136 | H45: Padres | I45: Chris Gwynn | K45: 1989 | L45: Round 3 | M45: 40 | N45: Padres | O45: Rick Mahler
A46: 105 | B46: Expos | C46: Greg Briley | D46: 121 | E46: Expos | F46: Joe Boever | G46: 137 | H46: Expos | I46: Spike Owen | K46: 1989 | L46: Round 3 | M46: 41 | N46: Expos | O46: Pat Borders
...

Sheet 1990
A1: ROUND 1 | D1: ROUND 2 | G1: ROUND 3 | K1: 1990 | L1: Round 1 | M1: ROUND 1
A2: 1 | B2: Phillies | C2: Ken Griffey Jr. | D2: 17 | E2: Phillies | F2: Ken Hill | G2: 33 | H2: Phillies | I2: Junior Noboa | K2: 1990 | L2: Round 1 | M2: 1 | N2: Phillies | O2: Ken Griffey Jr.
A3: 2 | B3: Giants | C3: Jerome Walton | D3: 18 | E3: Reds | F3: Jamie Navarro | G3: 34 | H3: Reds | I3: Omar Visquel | K3: 1990 | L3: Round 1 | M3: 2 | N3: Giants | O3: Jerome Walton
A4: 3 | B4: Phillies | C4: Pat Coombs | D4: 19 | E4: Royals | F4: Eric Anthony | G4: 35 | H4: Royals | I4: Joe Oliver | K4: 1990 | L4: Round 1 | M4: 3 | N4: Phillies | O4: Pat Coombs
A5: 4 | B5: Mets | C5: Todd Zeille | D5: 20 | E5: Orioles | F5: Rob Ritchie | G5: 36 | H5: Orioles | I5: Francisco Cabrerra | K5: 1990 | L5: Round 1 | M5: 4 | N5: Mets | O5: Todd Zeille
A6: 5 | B6: Astros | C6: Andy Benes | D6: 21 | E6: Astros | F6: Lonnie Smith | G6: 37 | H6: Astros | I6: John Orton | K6: 1990 | L6: Round 1 | M6: 5 | N6: Astros | O6: Andy Benes
A7: 6 | B7: Padres | C7: Jim Abbott | D7: 22 | E7: Pirates | F7: Mike Stanton | G7: 38 | H7: Padres | I7: Gary Eave | K7: 1990 | L7: Round 1 | M7: 6 | N7: Padres | O7: Jim Abbott
A8: 7 | B8: Cardinals | C8: Robin Ventura | D8: 23 | E8: Cardinals | F8: Greg Vaughn | G8: 39 | H8: Padres | I8: Joey Bell | K8: 1990 | L8: Round 1 | M8: 7 | N8: Cardinals | O8: Robin Ventura
A9: 8 | B9: Twins | C9: Ben McDonald | D9: 24 | E9: Twins | F9: Chuck Cary | G9: 40 | H9: Twins | I9: Mark Gardner | K9: 1990 | L9: Round 1 | M9: 8 | N9: Twins | O9: Ben McDonald
A10: 9 | B10: Expos | C10: Dwight Smith | D10: 25 | E10: Expos | F10: Larry Walker | G10: 41 | H10: Expos | I10: Tommy Greene | K10: 1990 | L10: Round 1 | M10: 9 | N10: Expos | O10: Dwight Smith
A11: 10 | B11: Blue Jays | C11: John Wetteland | D11: 26 | E11: Blue Jays | F11: John Olerud | G11: 42 | H11: Blue Jays | I11: Steve Finley | K11: 1990 | L11: Round 1 | M11: 10 | N11: Blue Jays | O11: John Wetteland
A12: 11 | B12: Yankees | C12: Junior Felix | D12: 27 | E12: Yankees | F12: Scott Scudder | G12: 43 | H12: Twins | I12: Wilson Alvarez | K12: 1990 | L12: Round 1 | M12: 11 | N12: Yankees | O12: Junior Felix
A13: 12 | B13: Indians | C13: Ken Howell | D13: 28 | E13: Indians | F13: Kent Mercker | G13: 44 | H13: Indians | I13: Bill Soiers | K13: 1990 | L13: Round 1 | M13: 12 | N13: Indians | O13: Ken Howell
... A17: 16 | B17: Pirates | C17: Bill Landrum | D17: 32 | E17: Pirates | F17: Greg Hibbard | G17: 48 | H17: Pirates | I17: Mark Portugal | K17: 1990 | L17: Round 1 | M17: 16 | N17: Pirates | O17: Bill Landrum
K18: 1990
A19: ROUND 4 | D19: ROUND 5 | G19: ROUND 6 | K19: 1990 | L19: Round 2 | M19: ROUND 2
A20: 49 | B20: Phillies | C20: Ken Rogers | D20: 65 | E20: Royals | F20: Lent Anderson | G20: 81 | H20: Phillies | I20: Deion Sanders | K20: 1990 | L20: Round 2 | M20: 17 | N20: Phillies | O20: Ken Hill
A21: 50 | B21: Reds | C21: Joe Giardi | D21: 66 | E21: Reds | F21: Tommy Gregg | G21: 82 | H21: Reds | I21: Kevin Appier | K21: 1990 | L21: Round 2 | M21: 18 | N21: Reds | O21: Jamie Navarro
A22: 51 | B22: Royals | C22: Derek Lilliquist | D22: 67 | E22: Royals | F22: Kevin Tapani | G22: 83 | H22: Royals | I22: Curt Schilling | K22: 1990 | L22: Round 2 | M22: 19 | N22: Royals | O22: Eric Anthony
A23: 52 | B23: Orioles | C23: Brian DuBois | D23: 68 | E23: Orioles | F23: Gary Wayne | G23: 84 | H23: Orioles | I23: Mark Knudson | K23: 1990 | L23: Round 2 | M23: 20 | N23: Orioles | O23: Rob Ritchie
A24: 53 | B24: Astros | C24: Jeff Kunkel | D24: 69 | E24: Astros | F24: Steve Olin | G24: 85 | H24: Cardinals | I24: Franklin Stubbs | K24: 1990 | L24: Round 2 | M24: 21 | N24: Astros | O24: Lonnie Smith
A25: 54 | B25: Padres | C25: Rolando Roomes | D25: 70 | E25: Padres | F25: Clay Parker | G25: 86 | H25: Padres | I25: Geranamo Berroa | K25: 1990 | L25: Round 2 | M25: 22 | N25: Pirates | O25: Mike Stanton
A26: 55 | B26: Cardinals | C26: Bob McClure | D26: 71 | E26: Cardinals | F26: Mike Blowers | G26: 87 | H26: Cardinals | I26: Louie Meadows | K26: 1990 | L26: Round 2 | M26: 23 | N26: Cardinals | O26: Greg Vaughn
A27: 56 | B27: Twins | C27: Steve Wilson | D27: 72 | E27: Twins | F27: Bob Rose | G27: 88 | H27: Twins | I27: Don Pall | K27: 1990 | L27: Round 2 | M27: 24 | N27: Twins | O27: Chuck Cary
A28: 57 | B28: Expos | C28: Alex Sanchez | D28: 73 | E28: Expos | F28: Dean Palmer | G28: 89 | H28: Expos | I28: Jason Grimsley | K28: 1990 | L28: Round 2 | M28: 25 | N28: Expos | O28: Larry Walker
A29: 58 | B29: Blue Jays | C29: Jim Acker | D29: 74 | E29: Blue Jays | F29: Hal Morris | G29: 90 | H29: Blue Jays | I29: Lloyd McClendon | K29: 1990 | L29: Round 2 | M29: 26 | N29: Blue Jays | O29: John Olerud
A30: 59 | B30: Yankees | C30: Greg Myers | D30: 75 | E30: Yankees | F30: Storm Davis | G30: 91 | H30: Yankees | I30: Mike Jeffcoat | K30: 1990 | L30: Round 2 | M30: 27 | N30: Yankees | O30: Scott Scudder
A31: 60 | B31: Indians | C31: Jeff Brantley | D31: 76 | E31: Indians | F31: Chip Hale | G31: 92 | H31: Indians | I31: Eric Hetzel | K31: 1990 | L31: Round 2 | M31: 28 | N31: Indians | O31: Kent Mercker
... A35: 64 | B35: Pirates | C35: Lee Gutterman | D35: 80 | E35: Pirates | F35: Mark Guthrie | G35: 96 | H35: Pirates | I35: Dave Otto | K35: 1990 | L35: Round 2 | M35: 32 | N35: Pirates | O35: Greg Hibbard
K36: 1990
A37: ROUND 7 | D37: ROUND 8 | G37: ROUND 9 | K37: 1990 | L37: Round 3 | M37: ROUND 3
A38: 97 | B38: Phillies | C38: Luis Quinnons | D38: 113 | E38: Phillies | F38: Mike Benjaman | G38: 129 | H38: Phillies | I38: Darrin Daulton | K38: 1990 | L38: Round 3 | M38: 33 | N38: Phillies | O38: Junior Noboa
A39: 98 | B39: Reds | C39: Hensley Muelens | D39: 114 | E39: Reds | F39: Rick Wrona | G39: 130 | H39: Reds | I39: Mariano Duncan | K39: 1990 | L39: Round 3 | M39: 34 | N39: Reds | O39: Omar Visquel
A40: 99 | B40: Royals | C40: Mauro Gozzo | D40: 115 | E40: Royals | F40: Paul Sorrento | G40: 131 | H40: Royals | I40: Rob Ducey | K40: 1990 | L40: Round 3 | M40: 35 | N40: Royals | O40: Joe Oliver
A41: 100 | B41: Orioles | C41: Kevin Ritz | D41: 116 | E41: Orioles | F41: Jeff Reed | G41: 132 | H41: Orioles | I41: Kevin Hickey | K41: 1990 | L41: Round 3 | M41: 36 | N41: Orioles | O41: Francisco Cabrerra
A42: 101 | B42: Astros | C42: Eric Yelding | D42: 117 | E42: Astros | F42: Russ Swan | G42: 133 | H42: Astros | I42: Paul Zuvella | K42: 1990 | L42: Round 3 | M42: 37 | N42: Astros | O42: John Orton
A43: 102 | B43: Padres | C43: Doug Baker | D43: 118 | E43: Padres | F43: Brad Kominsk | G43: 134 | H43: Padres | I43: Keith Hernandez | K43: 1990 | L43: Round 3 | M43: 38 | N43: Padres | O43: Gary Eave
A44: 103 | B44: Padres | C44: Juan Bell | D44: 119 | E44: Cardinals | F44: Tom Filer | G44: 135 | H44: Cardinals | I44: Bill Bathe | K44: 1990 | L44: Round 3 | M44: 39 | N44: Padres | O44: Joey Bell
A45: 104 | B45: Twins | C45: Mike Fetters | D45: 120 | E45: Twins | F45: Tony Fossas | G45: 136 | H45: Royals | I45: Alex Infante | K45: 1990 | L45: Round 3 | M45: 40 | N45: Twins | O45: Mark Gardner
A46: 105 | B46: Expos | C46: Chris Gwynn | D46: 121 | E46: Expos | F46: Jose Dejesus | G46: 137 | H46: Expos | I46: Stan Belinda | K46: 1990 | L46: Round 3 | M46: 41 | N46: Expos | O46: Tommy Greene
...

Sheet 1991
A1: ROUND 1 | D1: ROUND 2 | G1: ROUND 3 | K1: 1991 | L1: Round 1 | M1: ROUND 1
A2: 1 | B2: Orioles | C2: Frank Thomas | D2: 17 | E2: Orioles | F2: Brian McRae | G2: 33 | H2: Orioles | I2: Sal Chiamparino | K2: 1991 | L2: Round 1 | M2: 1 | N2: Orioles | O2: Frank Thomas
A3: 2 | B3: Pirates | C3: Cecil Fielder | D3: 18 | E3: Indians | F3: Mike McFarlane | G3: 34 | H3: Cardinals | I3: Bob Tewksberry | K3: 1991 | L3: Round 1 | M3: 2 | N3: Pirates | O3: Cecil Fielder
A4: 3 | B4: Orioles | C4: Travis Fryman | D4: 19 | E4: Pirates | F4: Steve Decker | G4: 35 | H4: Cardinals | I4: Milt Cuyler | K4: 1991 | L4: Round 1 | M4: 3 | N4: Orioles | O4: Travis Fryman
A5: 4 | B5: Astros | C5: Delino DeShields | D5: 20 | E5: Astros | F5: Phil Plantier | G5: 36 | H5: Astros | I5: Derrick May | K5: 1991 | L5: Round 1 | M5: 4 | N5: Astros | O5: Delino DeShields
A6: 5 | B6: Tigers | C6: Jose Offerman | D6: 21 | E6: Tigers | F6: Carlos Baerga | G6: 37 | H6: Tigers | I6: Luis Gonzalez | K6: 1991 | L6: Round 1 | M6: 5 | N6: Tigers | O6: Jose Offerman
A7: 6 | B7: Padres | C7: Jack McDowell | D7: 22 | E7: Twins | F7: Bernard Gilkey | G7: 38 | H7: Padres | I7: Leo Gomez | K7: 1991 | L7: Round 1 | M7: 6 | N7: Padres | O7: Jack McDowell
A8: 7 | B8: Yankees | C8: Alex Fernandez | D8: 23 | E8: Yankees | F8: Terry Shumpert | G8: 39 | H8: Yankees | I8: Wes Chamberlain | K8: 1991 | L8: Round 1 | M8: 7 | N8: Yankees | O8: Alex Fernandez
A9: 8 | B9: Phillies | C9: Mickey Morandini | D9: 24 | E9: Mets | F9: Shawn Boskie | G9: 40 | H9: Philles | I9: Jim Neidlinger | K9: 1991 | L9: Round 1 | M9: 8 | N9: Phillies | O9: Mickey Morandini
A10: 9 | B10: Reds | C10: Tino Martinez | D10: 25 | E10: Reds | F10: Chris Hammond | G10: 41 | H10: Reds | I10: Lance Dickson | K10: 1991 | L10: Round 1 | M10: 9 | N10: Reds | O10: Tino Martinez
A11: 10 | B11: Twins | C11: Ray Lankford | D11: 26 | E11: Twins | F11: Randy Tomlin | G11: 42 | H11: Twins | I11: Scott Radinsky | K11: 1991 | L11: Round 1 | M11: 10 | N11: Twins | O11: Ray Lankford
A12: 11 | B12: Indians | C12: Kevin Maas | D12: 27 | E12: Pirates | F12: Shane Mack | G12: 43 | H12: Pirates | I12: Mike Sharperson | K12: 1991 | L12: Round 1 | M12: 11 | N12: Indians | O12: Kevin Maas
A13: 12 | B13: Expos | C13: Mark Whiten | D13: 28 | E13: Expos | F13: Lee Stevens | G13: 44 | H13: Expos | I13: Wally Whitehurst | K13: 1991 | L13: Round 1 | M13: 12 | N13: Expos | O13: Mark Whiten
... A17: 16 | B17: Blue Jays | C17: Steve Avery | D17: 32 | E17: Blue Jays | F17: Brian Barnes | G17: 48 | H17: Philles | I17: Mark Portugal | K17: 1991 | L17: Round 1 | M17: 16 | N17: Blue Jays | O17: Steve Avery
K18: 1991
A19: ROUND 4 | D19: ROUND 5 | G19: ROUND 6 | K19: 1991 | L19: Round 2 | M19: ROUND 2
A20: 49 | B20: Orioles | C20: Rich Garces | D20: 65 | E20: Orioles | F20: Gene Harris | G20: 81 | H20: Orioles | I20: Willie Blair | K20: 1991 | L20: Round 2 | M20: 17 | N20: Orioles | O20: Brian McRae
A21: 50 | B21: Indians | C21: John Smiley | D21: 66 | E21: Indians | F21: Tom Bolton | G21: 82 | H21: Indians | I21: Bill Sampen | K21: 1991 | L21: Round 2 | M21: 18 | N21: Indians | O21: Mike McFarlane
A22: 51 | B22: Cardinals | C22: Andujar Cedeno | D22: 67 | E22: Cardinals | F22: Dana Kiecker | G22: 83 | H22: Cardinals | K22: 1991 | L22: Round 2 | M22: 19 | N22: Pirates | O22: Steve Decker
A23: 52 | B23: Astros | C23: Dave Hansen | D23: 68 | E23: Astros | F23: Victor Rosario | G23: 84 | H23: Astros | I23: Mike Bell | K23: 1991 | L23: Round 2 | M23: 20 | N23: Astros | O23: Phil Plantier
A24: 53 | B24: Tigers | C24: Tom Pagnozzi | D24: 69 | E24: Tigers | F24: Matt Young | G24: 85 | H24: Tigers | I24: Bill Swift | K24: 1991 | L24: Round 2 | M24: 21 | N24: Tigers | O24: Carlos Baerga
A25: 54 | B25: Padres | C25: Charles Nagy | D25: 70 | E25: Padres | F25: Rafael Valdez | G25: 86 | H25: Padres | I25: Greg Smith | K25: 1991 | L25: Round 2 | M25: 22 | N25: Twins | O25: Bernard Gilkey
A26: 55 | B26: Yankees | C26: Paul Marak | D26: 71 | E26: Yankees | F26: Joe Grahe | G26: 87 | H26: Yankees | I26: Narcisco Elvira | K26: 1991 | L26: Round 2 | M26: 23 | N26: Yankees | O26: Terry Shumpert
A27: 56 | B27: Mets | C27: Dave Hollins | D27: 72 | E27: Phillies | F27: Jim Leyritz | G27: 88 | H27: Phillies | I27: Mike Hartley | K27: 1991 | L27: Round 2 | M27: 24 | N27: Mets | O27: Shawn Boskie
A28: 57 | B28: Reds | C28: John Tudor | D28: 73 | E28: Reds | F28: Omar Oliveros | G28: 89 | H28: Reds | I28: Chris Hoiles | K28: 1991 | L28: Round 2 | M28: 25 | N28: Reds | O28: Chris Hammond
A29: 58 | B29: Twins | C29: Gerald Alexander | D29: 74 | E29: Giants | F29: Edwin Nunez | G29: 90 | H29: Twins | I29: Paul Faries | K29: 1991 | L29: Round 2 | M29: 26 | N29: Twins | O29: Randy Tomlin
A30: 59 | B30: Pirates | C30: Julio Valera | D30: 75 | E30: Pirates | F30: Hector Villanueva | G30: 91 | H30: Pirates | I30: Jerry Gleaton | K30: 1991 | L30: Round 2 | M30: 27 | N30: Pirates | O30: Shane Mack
A31: 60 | B31: Expos | C31: Karl Rhodes | D31: 76 | E31: Expos | F31: Thomas Howard | G31: 92 | H31: Expos | I31: Willie Fraser | K31: 1991 | L31: Round 2 | M31: 28 | N31: Expos | O31: Lee Stevens
A32: 61 | B32: Mets | C32: Todd Hundley | D32: 77 | E32: Mets | F32: Shawn Abner | G32: 93 | H32: Mets | I32: Kevin Belcher | K32: 1991 | L32: Round 2 | M32: 29 | N32: Mets | O32: Alex Cole
A33: 62 | B33: Royals | C33: Bob Kipper | D33: 78 | E33: Royals | F33: Darren Lewis | G33: 94 | H33: Cardinals | I33: Beau Allred | K33: 1991 | L33: Round 2 | M33: 30 | N33: Royals | O33: Jeff Conine
A34: 63 | B34: Giants | C34: Reggie Harris | D34: 79 | E34: Twins | F34: Stan Belinda | G34: 95 | H34: Giants | I34: Mike Fitzgerald | K34: 1991 | L34: Round 2 | M34: 31 | N34: Giants | O34: Scott Erickson
A35: 64 | B35: Blue Jays | C35: Junior Ortiz | D35: 80 | E35: Blue Jays | F35: Scott Ruskin | G35: 96 | H35: Blue Jays | I35: Bob Patterson | K35: 1991 | L35: Round 2 | M35: 32 | N35: Blue Jays | O35: Brian Barnes
K36: 1991
A37: ROUND 7 | D37: ROUND 8 | G37: ROUND 9 | K37: 1991 | L37: Round 3 | M37: ROUND 3
A38: 97 | B38: Orioles | C38: Eric Gunderson | D38: 113 | E38: Orioles | F38: Kevin D. Brown | G38: 129 | H38: Orioles | I38: Rey Palacios | K38: 1991 | L38: Round 3 | M38: 33 | N38: Orioles | O38: Sal Chiamparino
A39: 98 | B39: Indians | C39: Rob Ducey | D39: 114 | E39: Indians | F39: Mel Rojas | G39: 130 | H39: Indians | I39: Dave Johnson | K39: 1991 | L39: Round 3 | M39: 34 | N39: Cardinals | O39: Bob Tewksberry
A40: 99 | B40: Cardinals | C40: Daryl Hamilton | D40: 115 | E40: Cardinals | F40: Jeff Manto | G40: 131 | H40: Cardinals | I40: Scott Cooper | K40: 1991 | L40: Round 3 | M40: 35 | N40: Cardinals | O40: Milt Cuyler
A41: 100 | B41: Astros | C41: Steve Frey | D41: 116 | E41: Astros | F41: Darren Holmes | G41: 132 | H41: Astros | I41: Sean Berry | K41: 1991 | L41: Round 3 | M41: 36 | N41: Astros | O41: Derrick May
A42: 101 | B42: Tigers | C42: Mike Witt | D42: 117 | E42: Tigers | F42: Dave Clark | G42: 133 | H42: Tigers | I42: Mark Thurmond | K42: 1991 | L42: Round 3 | M42: 37 | N42: Tigers | O42: Luis Gonzalez
A43: 102 | B43: Padres | C43: Mike Simms | D43: 118 | E43: Padres | F43: David Segui | G43: 134 | H43: Padres | I43: Bill Gullickson | K43: 1991 | L43: Round 3 | M43: 38 | N43: Padres | O43: Leo Gomez
...

Sheet 1992
A1: ROUND 1 | D1: ROUND 2 | G1: ROUND 3 | K1: 1992 | L1: Round 1 | M1: ROUND 1
A2: 1 | B2: Phillies | C2: Chuck Knoblauch | D2: 17 | E2: Yankees | F2: Arthur Rhodes | G2: 33 | H2: Phillies | I2: Scott Lesius | K2: 1992 | L2: Round 1 | M2: 1 | N2: Phillies | O2: Chuck Knoblauch
A3: 2 | B3: Tigers | C3: Jeff Bagwell | D3: 18 | E3: Phillies | F3: Keith Mitchell | G3: 34 | H3: Giants | I3: Rheal Cormier | K3: 1992 | L3: Round 1 | M3: 2 | N3: Tigers | O3: Jeff Bagwell
A4: 3 | B4: Orioles | C4: Mike Mussina | D4: 19 | E4: Giants | F4: Reggie Sanders | G4: 35 | H4: Padres | I4: Eddie Zosky | K4: 1992 | L4: Round 1 | M4: 3 | N4: Orioles | O4: Mike Mussina
A5: 4 | B5: Indians | C5: Juan Guzman | D5: 20 | E5: Indians | F5: Reggie Jefferson | G5: 36 | H5: Indians | I5: Brian Hunter | K5: 1992 | L5: Round 1 | M5: 4 | N5: Indians | O5: Juan Guzman
A6: 5 | B6: Padres | C6: Mark Lewis | D6: 21 | E6: Orioles | F6: Chuck McElroy | G6: 37 | H6: Yankees | I6: Jeff Juden | K6: 1992 | L6: Round 1 | M6: 5 | N6: Padres | O6: Mark Lewis
A7: 6 | B7: Mets | C7: Ivan Rodriguez | D7: 22 | E7: Mets | F7: Jose Hernandez | G7: 38 | H7: Mets | I7: Hector Fajardo | K7: 1992 | L7: Round 1 | M7: 6 | N7: Mets | O7: Ivan Rodriguez
A8: 7 | B8: Cardinals | C8: Bill Wegman | D8: 23 | E8: Cardinals | F8: Doug Henry | G8: 39 | H8: Cardinals | I8: Joel Johnston | K8: 1992 | L8: Round 1 | M8: 7 | N8: Cardinals | O8: Bill Wegman
A9: 8 | B9: Tigers | C9: Jim Thome | D9: 24 | E9: Tigers | F9: Kyle Abbott | G9: 40 | H9: Tigers | I9: Cal Eldred | K9: 1992 | L9: Round 1 | M9: 8 | N9: Tigers | O9: Jim Thome
A10: 9 | B10: Giants | C10: Todd Van Poppell | D10: 25 | E10: Twins | F10: Kenny Lofton | G10: 41 | H10: Twins | I10: Frank Castillo | K10: 1992 | L10: Round 1 | M10: 9 | N10: Giants | O10: Todd Van Poppell
A11: 10 | B11: Reds | C11: Mo Vaughn | D11: 26 | E11: Reds | F11: Ray Sanchez | G11: 42 | H11: Reds | I11: Mo Sanford | K11: 1992 | L11: Round 1 | M11: 10 | N11: Reds | O11: Mo Vaughn
A12: 11 | B12: Yankees | C12: Darryl Kile | D12: 27 | E12: Yankees | F12: Pat Kelly | G12: 43 | H12: Yankees | I12: Anthony Young | K12: 1992 | L12: Round 1 | M12: 11 | N12: Yankees | O12: Darryl Kile
A13: 12 | B13: Pirates | C13: Dean Palmer | D13: 28 | E13: Royals | F13: Luis Mercedes | G13: 44 | H13: Twins | I13: Todd Frohwirth | K13: 1992 | L13: Round 1 | M13: 12 | N13: Pirates | O13: Dean Palmer
... A17: 16 | B17: Blue Jays | C17: Royce Clayton | D17: 32 | E17: Blue Jays | F17: Bernie Williams | G17: 48 | H17: Blue Jays | I17: Dave Hansen | K17: 1992 | L17: Round 1 | M17: 16 | N17: Blue Jays | O17: Royce Clayton
K18: 1992
A19: ROUND 4 | D19: ROUND 5 | G19: ROUND 6 | K19: 1992 | L19: Round 2 | M19: ROUND 2
A20: 49 | B20: Phillies | C20: Dave Fleming | D20: 65 | E20: Padres | F20: Brian Williams | G20: 81 | H20: Padres | I20: Ryan Bowen | K20: 1992 | L20: Round 2 | M20: 17 | N20: Yankees | O20: Arthur Rhodes
A21: 50 | B21: Royals | C21: Chris Haney | D21: 66 | E21: Phillies | F21: Eric Karros | G21: 82 | H21: Phillies | I21: Kevin Morton | K21: 1992 | L21: Round 2 | M21: 18 | N21: Phillies | O21: Keith Mitchell
A22: 51 | B22: Padres | C22: Craig Grebeck | D22: 67 | E22: Royals | F22: Mike Magnante | G22: 83 | H22: Royals | I22: Dave Burba | K22: 1992 | L22: Round 2 | M22: 19 | N22: Giants | O22: Reggie Sanders
A23: 52 | B23: Indians | C23: Mike Timlin | D23: 68 | E23: Indians | F23: John Vanderwal | G23: 84 | H23: Indians | I23: Kevin Brown | K23: 1992 | L23: Round 2 | M23: 20 | N23: Indians | O23: Reggie Jefferson
A24: 53 | B24: Orioles | C24: Jose Melendez | D24: 69 | E24: Orioles | F24: Pete Schourek | G24: 85 | H24: Orioles | I24: Terry Mathews | K24: 1992 | L24: Round 2 | M24: 21 | N24: Orioles | O24: Chuck McElroy
A25: 54 | B25: Mets | C25: Ramon Garcia | D25: 70 | E25: Mets | F25: Dave Weathers | G25: 86 | H25: Mets | I25: Terry Clark | K25: 1992 | L25: Round 2 | M25: 22 | N25: Mets | O25: Jose Hernandez
A26: 55 | B26: Cardinals | C26: Milt Thompson | D26: 71 | E26: Cardinals | F26: Jeff Fassero | G26: 87 | H26: Cardinals | I26: Scott Livingstone | K26: 1992 | L26: Round 2 | M26: 23 | N26: Cardinals | O26: Doug Henry
A27: 56 | B27: Tigers | C27: John Habyan | D27: 72 | E27: Tigers | F27: Jeff Innis | G27: 88 | H27: Tigers | I27: Dave Otto | K27: 1992 | L27: Round 2 | M27: 24 | N27: Tigers | O27: Kyle Abbott
A28: 57 | B28: Cardinals | C28: Steve Howe | D28: 73 | E28: Twins | F28: Ricky Bones | G28: 89 | H28: Twins | I28: Gil Heredia | K28: 1992 | L28: Round 2 | M28: 25 | N28: Twins | O28: Kenny Lofton
A29: 58 | B29: Reds | C29: John Wehner | D29: 74 | E29: Reds | F29: Mike Maddux | G29: 90 | H29: Reds | I29: Rob Mauer | K29: 1992 | L29: Round 2 | M29: 26 | N29: Reds | O29: Ray Sanchez
A30: 59 | B30: Yankees | C30: Gary Scott | D30: 75 | E30: Yankees | F30: Kirk Dressendorer | G30: 91 | H30: Yankees | I30: Eddie Taubensee | K30: 1992 | L30: Round 2 | M30: 27 | N30: Yankees | O30: Pat Kelly
A31: 60 | B31: Twins | C31: Denny Neagle | D31: 76 | E31: Giants | F31: Dave Howard | G31: 92 | H31: Giants | I31: Rick Wilkins | K31: 1992 | L31: Round 2 | M31: 28 | N31: Royals | O31: Luis Mercedes
... A35: 64 | B35: Blue Jays | C35: Chito Martinez | D35: 80 | E35: Blue Jays | F35: Joe Hesketh | G35: 96 | H35: Blue Jays | I35: Kenny Rogers | K35: 1992 | L35: Round 2 | M35: 32 | N35: Blue Jays | O35: Bernie Williams
K36: 1992
A37: ROUND 7 | D37: ROUND 8 | G37: ROUND 9 | K37: 1992 | L37: Round 3 | M37: ROUND 3
A38: 97 | B38: Padres | C38: John Franco | D38: 113 | E38: Padres | F38: Marvin Freeman | G38: 129 | H38: Royals | I38: Karl Rhodes | K38: 1992 | L38: Round 3 | M38: 33 | N38: Phillies | O38: Scott Lesius
A39: 98 | B39: Phillies | C39: Ted Wood | D39: 114 | E39: Phillies | F39: Rod Beck | G39: 130 | H39: Phillies | I39: Bryan Hickerson | K39: 1992 | L39: Round 3 | M39: 34 | N39: Giants | O39: Rheal Cormier
A40: 99 | B40: Royals | C40: Roberto Hernandez | D40: 115 | E40: Reds | F40: Tim Spehr | G40: 131 | H40: Royals | I40: Barry Jones | K40: 1992 | L40: Round 3 | M40: 35 | N40: Padres | O40: Eddie Zosky
A41: 100 | B41: Indians | C41: Lenny Webster | D41: 116 | E41: Indians | F41: Gary Varsho | G41: 132 | H41: Indians | I41: Harvey Pulliam | K41: 1992 | L41: Round 3 | M41: 36 | N41: Indians | O41: Brian Hunter
A42: 101 | B42: Orioles | C42: Xavier Hernandez | D42: 117 | E42: Orioles | F42: Brady Anderson | G42: 133 | H42: Orioles | I42: Brian Bohanon | K42: 1992 | L42: Round 3 | M42: 37 | N42: Yankees | O42: Jeff Juden
A43: 102 | B43: Mets | C43: Chris Gardiner | D43: 118 | E43: Mets | F43: John Guzman | G43: 134 | H43: Mets | I43: Curt Schilling | K43: 1992 | L43: Round 3 | M43: 38 | N43: Mets | O43: Hector Fajardo
A44: 103 | B44: Cardinals | C44: Roger Mason | D44: 119 | E44: Cardinals | F44: Warren Cromartie | G44: 135 | H44: Cardinals | I44: Wally Ritchie | K44: 1992 | L44: Round 3 | M44: 39 | N44: Cardinals | O44: Joel Johnston
A45: 104 | B45: Tigers | C45: Mark Leiter | D45: 120 | E45: Tigers | F45: Mike Flanagan | G45: 136 | H45: Tigers | I45: Carl Willis | K45: 1992 | L45: Round 3 | M45: 40 | N45: Tigers | O45: Cal Eldred
A46: 105 | B46: Twins | C46: Chico Walker | D46: 121 | E46: Twins | F46: Rick Cerone | G46: 137 | H46: Twins | I46: Chris Donnels | K46: 1992 | L46: Round 3 | M46: 41 | N46: Twins | O46: Frank Castillo
...

Sheet 1993
A1: ROUND 1 | D1: ROUND 2 | G1: ROUND 3 | K1: 1993 | L1: Round 1 | M1: ROUND 1
A2: 1 | B2: Phillies | C2: Pat Listach | D2: 17 | E2: Padres | F2: Pedro Martinez | G2: 33 | H2: Twins | I2: Mike Fetters | K2: 1993 | L2: Round 1 | M2: 1 | N2: Phillies | O2: Pat Listach
A3: 2 | B3: Phillies | C3: Tim Wakefield | D3: 18 | E3: Phillies | F3: Willie Greene | G3: 34 | H3: Phillies | I3: Dan Walters | K3: 1993 | L3: Round 1 | M3: 2 | N3: Phillies | O3: Tim Wakefield
A4: 3 | B4: Yankees | C4: Wil Cordero | D4: 19 | E4: Yankees | F4: Julio Valera | G4: 35 | H4: Twins | I4: Jeff Kent | K4: 1993 | L4: Round 1 | M4: 3 | N4: Yankees | O4: Wil Cordero
A5: 4 | B5: Twins | C5: Ben Rivera | D5: 20 | E5: Yankees | F5: Dave Nilsson | G5: 36 | H5: Padres | I5: Kent Bottenfield | K5: 1993 | L5: Round 1 | M5: 4 | N5: Twins | O5: Ben Rivera
A6: 5 | B6: Twins | C6: David Neid | D6: 21 | E6: Twins | F6: Andy Stankiewicz | G6: 37 | H6: Royals | I6: J.T. Snow | K6: 1993 | L6: Round 1 | M6: 5 | N6: Twins | O6: David Neid
A7: 6 | B7: Reds | C7: Sam Militello | D7: 22 | E7: Mets | F7: Alex Arias | G7: 38 | H7: Reds | I7: Jim Jones | K7: 1993 | L7: Round 1 | M7: 6 | N7: Reds | O7: Sam Militello
A8: 7 | B8: Expos | C8: Bret Boone | D8: 23 | E8: Expos | F8: Javier Lopez | G8: 39 | H8: Expos | I8: John Jaja | K8: 1993 | L8: Round 1 | M8: 7 | N8: Expos | O8: Bret Boone
A9: 8 | B9: Tigers | C9: Tim Salmon | D9: 24 | E9: Tigers | F9: Kevin Young | G9: 40 | H9: Tigers | I9: Brian Jordan | K9: 1993 | L9: Round 1 | M9: 8 | N9: Tigers | O9: Tim Salmon
A10: 9 | B10: Astros | C10: Greg Colbrunn | D10: 25 | E10: Astros | F10: Alan Mills | G10: 41 | H10: Astros | I10: Domingo Martinez | K10: 1993 | L10: Round 1 | M10: 9 | N10: Astros | O10: Greg Colbrunn
A11: 10 | B11: Mets | C11: Carlos Garcia | D11: 26 | E11: Mets | F11: Tim Naehring | G11: 42 | H11: Mets | I11: Cris Colon | K11: 1993 | L11: Round 1 | M11: 10 | N11: Mets | O11: Carlos Garcia
A12: 11 | B12: Cardinals | C12: Donovan Osborne | D12: 27 | E12: Cardinals | F12: Bob Zupzic | G12: 43 | H12: Cardinals | I12: Ryan Thompson | K12: 1993 | L12: Round 1 | M12: 11 | N12: Cardinals | O12: Donovan Osborne
A13: 12 | B13: Orioles | C13: Pedro Astacio | D13: 28 | E13: Orioles | F13: Hipilito Picardo | G13: 44 | H13: Orioles | I13: Mike Trombley | K13: 1993 | L13: Round 1 | M13: 12 | N13: Orioles | O13: Pedro Astacio
... A17: 16 | B17: Blue Jays | C17: Chad Curtis | D17: 32 | E17: Blue Jays | F17: Juan Nieves | G17: 48 | H17: Blue Jays | I17: Mike Perez | K17: 1993 | L17: Round 1 | M17: 16 | N17: Blue Jays | O17: Chad Curtis
K18: 1993
A19: ROUND 4 | D19: ROUND 5 | G19: ROUND 6 | K19: 1993 | L19: Round 2 | M19: ROUND 2
A20: 49 | B20: Padres | C20: Kirt Manwaring | D20: 65 | E20: Padres | F20: Frank Seminara | G20: 81 | H20: Padres | I20: Jeff Parrett | K20: 1993 | L20: Round 2 | M20: 17 | N20: Padres | O20: Pedro Martinez
A21: 50 | B21: Phillies | C21: Brad Brink | D21: 66 | E21: Phillies | F21: Pete Incaviglia | G21: 82 | H21: Phillies | I21: Shawn Abner | K21: 1993 | L21: Round 2 | M21: 18 | N21: Phillies | O21: Willie Greene
A22: 51 | B22: Yankees | C22: Damion Easley | D22: 67 | E22: Yankees | F22: Ozzie Canseco | G22: 83 | H22: Yankees | I22: Kevin Koslofski | K22: 1993 | L22: Round 2 | M22: 19 | N22: Yankees | O22: Julio Valera
A23: 52 | B23: Orioles | C23: Eric Young | D23: 68 | E23: Royals | F23: Darren Holmes | G23: 84 | H23: Indians | I23: Jesse Levis | K23: 1993 | L23: Round 2 | M23: 20 | N23: Yankees | O23: Dave Nilsson
A24: 53 | B24: Twins | C24: Eric Wedge | D24: 69 | E24: Twins | F24: Jim Austin | G24: 85 | H24: Twins | I24: Bob Ayrault | K24: 1993 | L24: Round 2 | M24: 21 | N24: Twins | O24: Andy Stankiewicz
A25: 54 | B25: Reds | C25: Bob Wickman | D25: 70 | E25: Reds | F25: Tracy Woodson | G25: 86 | H25: Yankees | I25: Manny Alexander | K25: 1993 | L25: Round 2 | M25: 22 | N25: Mets | O25: Alex Arias
A26: 55 | B26: Expos | C26: Steve Springer | D26: 71 | E26: Expos | F26: Troy Neel | G26: 87 | H26: Expos | I26: Pat Rapp | K26: 1993 | L26: Round 2 | M26: 23 | N26: Expos | O26: Javier Lopez
A27: 56 | B27: Tigers | C27: Randy Velardi | D27: 72 | E27: Tigers | F27: Kevin Rogers | G27: 88 | H27: Tigers | I27: Vince Horsman | K27: 1993 | L27: Round 2 | M27: 24 | N27: Tigers | O27: Kevin Young
A28: 57 | B28: Astros | C28: Richie Lewis | D28: 73 | E28: Astros | F28: Pat Hentgen | G28: 89 | H28: Astros | I28: Dennis Cook | K28: 1993 | L28: Round 2 | M28: 25 | N28: Astros | O28: Alan Mills
A29: 58 | B29: Mets | C29: Monty Faris | D29: 74 | E29: Mets | F29: Sterling Hitchcock | G29: 90 | H29: Mets | I29: Jeff Huson | K29: 1993 | L29: Round 2 | M29: 26 | N29: Mets | O29: Tim Naehring
A30: 59 | B30: Cardinals | C30: Tim Pugh | D30: 75 | E30: Cardinals | F30: John Kiely | G30: 91 | H30: Cardinals | I30: Tim Laker | K30: 1993 | L30: Round 2 | M30: 27 | N30: Cardinals | O30: Bob Zupzic
A31: 60 | B31: Orioles | C31: Gerald Williams | D31: 76 | E31: Orioles | F31: Alan Embry | G31: 92 | H31: Orioles | I31: Roger Pavlik | K31: 1993 | L31: Round 2 | M31: 28 | N31: Orioles | O31: Hipilito Picardo
... A35: 64 | B35: Blue Jays | C35: Rich Monteleone | D35: 80 | E35: Blue Jays | F35: Todd Burns | G35: 96 | H35: Blue Jays | I35: Dwayne Henry | K35: 1993 | L35: Round 2 | M35: 32 | N35: Blue Jays | O35: Juan Nieves
K36: 1993
A37: ROUND 7 | D37: ROUND 8 | G37: ROUND 9 | K37: 1993 | L37: Round 3 | M37: ROUND 3
A38: 97 | B38: Padres | C38: Jim Gott | D38: 113 | E38: Padres | F38: Dan Wilson | G38: 129 | H38: Padres | I38: Scott Taylor | K38: 1993 | L38: Round 3 | M38: 33 | N38: Twins | O38: Mike Fetters
A39: 98 | B39: Phillies | C39: Chris Gwynn | D39: 114 | E39: Phillies | F39: Doug Dacenzo | G39: 130 | H39: Phillies | I39: Carlos Martinez | K39: 1993 | L39: Round 3 | M39: 34 | N39: Phillies | O39: Dan Walters
A40: 99 | B40: Yankees | C40: Craig Lefferts | D40: 115 | E40: Yankees | F40: Gary Scott | G40: 131 | H40: Yankees | I40: Rich Brogna | K40: 1993 | L40: Round 3 | M40: 35 | N40: Twins | O40: Jeff Kent
A41: 100 | B41: Twins | C41: Dave Valle | D41: 116 | E41: Orioles | F41: Willie Wilson | G41: 132 | H41: Royals | I41: Dennis Moeller | K41: 1993 | L41: Round 3 | M41: 36 | N41: Padres | O41: Kent Bottenfield
A42: 101 | B42: Twins | C42: Sergio Valdez | D42: 117 | E42: Giants | F42: Stan Javier | G42: 133 | H42: Twins | I42: Matt Whiteside | K42: 1993 | L42: Round 3 | M42: 37 | N42: Royals | O42: J.T. Snow
A43: 102 | B43: Reds | C43: Jeff Branson | D43: 118 | E43: Royals | F43: Henry Rodriguez | G43: 134 | H43: Reds | I43: Terry Leach | K43: 1993 | L43: Round 3 | M43: 38 | N43: Reds | O43: Jim Jones
A44: 103 | B44: Expos | C44: Jimmy Tatum | D44: 119 | E44: Expos | F44: Steve Foster | G44: 135 | H44: Expos | I44: John Patterson | K44: 1993 | L44: Round 3 | M44: 39 | N44: Expos | O44: John Jaja
A45: 104 | B45: Tigers | C45: Rod Brewer | D45: 120 | E45: Tigers | F45: Danny Jackson | G45: 136 | H45: Tigers | I45: Bob Patterson | K45: 1993 | L45: Round 3 | M45: 40 | N45: Tigers | O45: Brian Jordan
A46: 105 | B46: Astros | C46: Archi Cianfrocco | D46: 121 | E46: Astros | F46: Jeff Tackett | G46: 137 | H46: Astros | I46: Eric Fox | K46: 1993 | L46: Round 3 | M46: 41 | N46: Astros | O46: Domingo Martinez
...

Sheet 1994
A1: ROUND 1 | D1: ROUND 2 | G1: ROUND 3 | M1: ROUND 1
A2: 1 | B2: Tigers | C2: Jason Bere | D2: 19 | E2: Rockies | F2: Angel Miranda | G2: 37 | H2: Rockies | I2: Eduardo Perez | L2: Round 1 | M2: 1 | N2: Tigers | O2: Jason Bere
A3: 2 | B3: Expos | C3: Aaron Sele | D3: 20 | E3: Pirates | F3: J.R. Phillips | G3: 38 | H3: Pirates | I3: Wayne Kirby | L3: Round 1 | M3: 2 | N3: Expos | O3: Aaron Sele
A4: 3 | B4: Astros | C4: Cliff Floyd | D4: 21 | E4: Phillies | F4: Ricky Gutierrez | G4: 39 | H4: Tigers | I4: Denis Boucher | L4: Round 1 | M4: 3 | N4: Astros | O4: Cliff Floyd
A5: 4 | B5: Yankees | C5: Brent Gates | D5: 22 | E5: Expos | F5: Roger Salkeld | G5: 40 | H5: Expos | I5: Rich Becker | L5: Round 1 | M5: 4 | N5: Yankees | O5: Brent Gates
A6: 5 | B6: Cardinals | C6: Chipper Jones | D6: 23 | E6: Astros | F6: Brad Pennington | G6: 41 | H6: Astros | I6: Brett Butler | L6: Round 1 | M6: 5 | N6: Cardinals | O6: Chipper Jones
A7: 6 | B7: Pirates | C7: Jeffrey Hammonds | D7: 24 | E7: Yankees | F7: Rene Arocha | G7: 42 | H7: Yankees | I7: Bobby Jones | L7: Round 1 | M7: 6 | N7: Pirates | O7: Jeffrey Hammonds
A8: 7 | B8: Mets | C8: Kevin Stocker | D8: 25 | E8: Cardinals | F8: Phil Leftwich | G8: 43 | H8: Cardinals | I8: Jerry DiPoto | L8: Round 1 | M8: 7 | N8: Mets | O8: Kevin Stocker
A9: 8 | B9: Orioles | C9: Carlos Delgado | D9: 26 | E9: Expos | F9: Trevor Hoffman | G9: 44 | H9: Pirates | I9: Orestes Destrada | L9: Round 1 | M9: 8 | N9: Orioles | O9: Carlos Delgado
A10: 9 | B10: Pirates | C10: Manny Ramirez | D10: 27 | E10: Mets | F10: Tony Tarasco | G10: 45 | H10: Mets | I10: Dave Stewart | L10: Round 1 | M10: 9 | N10: Pirates | O10: Manny Ramirez
A11: 10 | B11: Phillies | C11: Mike Lansing | D11: 28 | E11: Astros | F11: Danny Bautista | G11: 46 | H11: Padres | I11: Dave McCarty | L11: Round 1 | M11: 10 | N11: Phillies | O11: Mike Lansing
A12: 11 | B12: Indians | C12: Rondell White | D12: 29 | E12: Twins | F12: Danny Darwin | G12: 47 | H12: Pirates | I12: Jeff Granger | L12: Round 1 | M12: 11 | N12: Indians | O12: Rondell White
A13: 12 | B13: Indians | C13: Roberto Mejia | D13: 30 | E13: Pirates | F13: Craig Poquette | G13: 48 | H13: Phillies | I13: Miguel Jimenez | L13: Round 1 | M13: 12 | N13: Indians | O13: Roberto Mejia
... A19: 18 | B19: Pirates | C19: Tyler Green | D19: 36 | E19: Blue Jays | F19: Domingo Jean | G19: 54 | H19: Blue Jays | I19: Pedro Martinez | L19: Round 1 | M19: 18 | N19: Pirates | O19: Tyler Green
A21: ROUND 4 | D21: ROUND 5 | G21: ROUND 6 | M21: ROUND 2
A22: 55 | B22: Rockies | C22: Brian Looney | D22: 73 | E22: Phillies | F22: Brad Ausmus | G22: 91 | H22: Rockies | I22: Marcos Armas | L22: Round 2 | M22: 19 | N22: Rockies | O22: Angel Miranda
A23: 56 | B23: Pirates | C23: Nigel Wilson | D23: 74 | E23: White Sox | F23: Jamie Moyer | G23: 92 | H23: White Sox | I23: Tim Scott | L23: Round 2 | M23: 20 | N23: Pirates | O23: J.R. Phillips
A24: 57 | B24: Tigers | C24: John Roper | D24: 75 | E24: Tigers | F24: Steve Bedrosian | G24: 93 | H24: Tigers | I24: Bernardo Brito | L24: Round 2 | M24: 21 | N24: Phillies | O24: Ricky Gutierrez
A25: 58 | B25: Expos | C25: Rick Honeycutt | D25: 76 | E25: Rockies | F25: Derek Parks | G25: 94 | H25: Expos | I25: Larry Andersen | L25: Round 2 | M25: 22 | N25: Expos | O25: Roger Salkeld
A26: 59 | B26: Astros | C26: Butch Huskey | D26: 77 | E26: Astros | F26: John Cummings | G26: 95 | H26: Astros | I26: John Hope | L26: Round 2 | M26: 23 | N26: Astros | O26: Brad Pennington
A27: 60 | B27: Yankees | C27: Graeme Lloyd | D27: 78 | E27: Yankees | F27: Dave Staton | G27: 96 | H27: Yankees | I27: Tim Worrell | L27: Round 2 | M27: 24 | N27: Yankees | O27: Rene Arocha
A28: 61 | B28: Cardinals | C28: Bob Hamelin | D28: 79 | E28: Cardinals | F28: Mike Ignasiak | G28: 97 | H28: Cardinals | I28: Julian Tavarez | L28: Round 2 | M28: 25 | N28: Cardinals | O28: Phil Leftwich
A29: 62 | B29: Pirates | C29: Jose Valentin | D29: 80 | E29: Pirates | F29: Tim Jones | G29: 98 | H29: Pirates | I29: Jeff Gardner | L29: Round 2 | M29: 26 | N29: Expos | O29: Trevor Hoffman
A30: 63 | B30: Mets | C30: Jeremy Burnitz | D30: 81 | E30: Yankees | F30: Scott Sanders | G30: 99 | H30: Mets | I30: Al Leiter | L30: Round 2 | M30: 27 | N30: Mets | O30: Tony Tarasco
A31: 64 | B31: Orioles | C31: Matt Turner | D31: 82 | E31: Padres | F31: Todd Stottlemyre | G31: 100 | H31: Padres | I31: Todd Benzinger | L31: Round 2 | M31: 28 | N31: Astros | O31: Danny Bautista
A32: 65 | B32: Giants | C32: Kurt Abbott | D32: 83 | E32: Twins | F32: Mark Dewey | G32: 101 | H32: Twins | I32: Roger Smithberg | L32: Round 2 | M32: 29 | N32: Twins | O32: Danny Darwin
A33: 66 | B33: Pirates | C33: Scott Ruffcorn | D33: 84 | E33: Phillies | F33: Darren Oliver | G33: 102 | H33: Phillies | I33: Brad Holman | L33: Round 2 | M33: 30 | N33: Pirates | O33: Craig Poquette
... A39: 72 | B39: Pirates | C39: Steve Trachsel | D39: 90 | E39: Blue Jays | F39: Rich Amaral | G39: 108 | H39: Blue Jays | I39: Mike Pagliarulo | L39: Round 2 | M39: 36 | N39: Blue Jays | O39: Domingo Jean
A41: ROUND 7 | D41: ROUND 8 | G41: ROUND 9 | M41: ROUND 3
A42: 109 | B42: Rockies | C42: Rikkert Faneyete | D42: 127 | E42: Rockies | F42: Tom Urbani | G42: 145 | H42: Cardinals | I42: Roger Mason | L42: Round 3 | M42: 37 | N42: Rockies | O42: Eduardo Perez
A43: 110 | B43: White Sox | C43: Rene Gozalez | D43: 128 | E43: White Sox | F43: Larry Casian | G43: 146 | H43: White Sox | I43: Phil Hiatt | L43: Round 3 | M43: 38 | N43: Pirates | O43: Wayne Kirby
A44: 111 | B44: Pirates | C44: Vince Coleman | D44: 129 | E44: Pirates | F44: Dave Gallagher | G44: 147 | H44: Pirates | I44: Shawn Green | L44: Round 3 | M44: 39 | N44: Tigers | O44: Denis Boucher
A45: 112 | B45: Expos | C45: Tim Mauser | D45: 130 | E45: Expos | F45: Matt Mieske | G45: 148 | H45: Expos | I45: Bobby Munoz | L45: Round 3 | M45: 40 | N45: Expos | O45: Rich Becker
A46: 113 | B46: Astros | C46: Brian Anderson | D46: 131 | E46: Astros | F46: Rich Aude | G46: 149 | H46: Astros | I46: D. Schaeffer | L46: Round 3 | M46: 41 | N46: Astros | O46: Brett Butler
A47: 114 | B47: Yankees | C47: Nate Minchey | D47: 132 | E47: Yankees | F47: Mike Butcher | G47: 150 | H47: Yankees | I47: Doug Brocail | L47: Round 3 | M47: 42 | N47: Yankees | O47: Bobby Jones
A48: 115 | B48: Cardinals | C48: Troy O'Leary | D48: 133 | E48: Cardinals | F48: Dave Tehgheder | G48: 151 | H48: Cardinals | I48: Mike Benjamin | L48: Round 3 | M48: 43 | N48: Cardinals | O48: Jerry DiPoto
A49: 116 | B49: Pirates | C49: Erik Pappas | D49: 134 | E49: Pirates | F49: Greg Gohr | G49: 152 | H49: Pirates | I49: Cory Bailey | L49: Round 3 | M49: 44 | N49: Pirates | O49: Orestes Destrada
A50: 117 | B50: Mets | C50: Lou Frazier | D50: 135 | E50: Mets | F50: Brian Turang | G50: 153 | H50: Mets | I50: Darryl Scott | L50: Round 3 | M50: 45 | N50: Mets | O50: Dave Stewart
